BEGIN:VCALENDAR
VERSION:2.0
PRODID:-//Formations équestres - ECPv6.15.20//NONSGML v1.0//EN
CALSCALE:GREGORIAN
METHOD:PUBLISH
X-WR-CALNAME:Formations équestres
X-ORIGINAL-URL:https://formations-equestres.be
X-WR-CALDESC:Évènements pour Formations équestres
REFRESH-INTERVAL;VALUE=DURATION:PT1H
X-Robots-Tag:noindex
X-PUBLISHED-TTL:PT1H
BEGIN:VTIMEZONE
TZID:Europe/Brussels
BEGIN:DAYLIGHT
TZOFFSETFROM:+0100
TZOFFSETTO:+0200
TZNAME:CEST
DTSTART:20250330T010000
END:DAYLIGHT
BEGIN:STANDARD
TZOFFSETFROM:+0200
TZOFFSETTO:+0100
TZNAME:CET
DTSTART:20251026T010000
END:STANDARD
BEGIN:DAYLIGHT
TZOFFSETFROM:+0100
TZOFFSETTO:+0200
TZNAME:CEST
DTSTART:20260329T010000
END:DAYLIGHT
BEGIN:STANDARD
TZOFFSETFROM:+0200
TZOFFSETTO:+0100
TZNAME:CET
DTSTART:20261025T010000
END:STANDARD
BEGIN:DAYLIGHT
TZOFFSETFROM:+0100
TZOFFSETTO:+0200
TZNAME:CEST
DTSTART:20270328T010000
END:DAYLIGHT
BEGIN:STANDARD
TZOFFSETFROM:+0200
TZOFFSETTO:+0100
TZNAME:CET
DTSTART:20271031T010000
END:STANDARD
END:VTIMEZONE
BEGIN:VEVENT
DTSTART;TZID=Europe/Brussels:20260425T093000
DTEND;TZID=Europe/Brussels:20260426T173000
DTSTAMP:20260421T100023
CREATED:20230728T124156Z
LAST-MODIFIED:20251215T110356Z
UID:5083-1777109400-1777224600@formations-equestres.be
SUMMARY:Formation PRO modulaire\, 2ème année - 4/12
DESCRIPTION:Les formations professionnelles en Équitation Éthologique proposées par Claire Stevenaert en collaboration avec Alexandre Declercq visent à former des futurs éducateurs équins ainsi que des enseignants qualifiés en équitation dite éthologique. \nAu terme de cette formation\, vous aurez acquis : \n\n– les connaissances et la pratique éthologique des 5 savoirs d’équitation éthologique de la fédération française d’équitation\,\n– une expérience pédagogique dans l’enseignement des 5 savoirs\,\n– des compétences de travail avec différents chevaux. \nDécouvrez le programme de la deuxième année de formation composé de 12 week-ends. Les thèmes abordés sont les suivants : \n\nTravail à pied avec différents chevaux\,\nComportementalisme\,\nPédagogie et coaching\,\nTravail monté de différents chevaux\,\nEquitation éthologique et dressage\,\nEquifeel.\n\nFrais supplémentaires et autres : \n– hébergement du cheval en box : 40 €/week-end\n– hébergement du cheval en paddock : 20 €/week-end\n– location d’un cheval : 30 €/week-end\nCes tarifs peuvent varier selon l’écurie qui accueille le stage. \nModalités de paiement : \n\n– paiement en une fois : 3489 € à l’inscription\n– paiement en trois fois : 1200 €/trimestre\n– paiement mensuel : 375 €/mois \n\nPour un paiement échelonné\, choisissez l’option de paiement « virement ». \nDécouvrez l’entièreté du programme via le lien suivant : https://formations-equestres.be/pro-modulaire/ \nInscriptions : https://formations-equestres.be/produit/formation-cpe-pro-2e-annee/ \nInformations : contact@formations-equestres.be
URL:https://formations-equestres.be/formation-ethologique/formation-pro-modulaire-2eme-annee-4-12/
LOCATION:L’écurie du Moulin de Donstiennes\, rue Couture\, 144\, Donstiennes\, Belgium
CATEGORIES:formation-pro
ATTACH;FMTTYPE=image/png:https://formations-equestres.be/formeque/wp-content/uploads/2023/07/Formation-PRO-modulaire-1e-annee-1.png
END:VEVENT
BEGIN:VEVENT
DTSTART;VALUE=DATE:20260427
DTEND;VALUE=DATE:20260502
DTSTAMP:20260421T100023
CREATED:20251222T092117Z
LAST-MODIFIED:20251222T092117Z
UID:11186-1777248000-1777679999@formations-equestres.be
SUMMARY:Stage "ados" : travail au sol\, liberté et monté
DESCRIPTION:Découvrez une approche unique de l’équitation axée sur le travail au sol\, la liberté et la monte\, visant à établir une relation de confiance et de respect mutuel avec votre cheval. Ce stage offre une immersion complète\, combinant séances pratiques\, théorie\, soins aux chevaux et ateliers d’écurie. \nProgramme d’une journée de stage :\n– 09h00 : Soins aux chevaux\n– 09h30 : Théorie pratique\n– 10h00 : Gestuelles\n– 10h30 : Pansage et préparation des chevaux\n– 11h00 : Travail avec les chevaux\n– 12h30 : Ateliers d’écurie\n– 13h00 : Pause repas\n– 14h00 : Gestuelle\n– 14h30 : Travail avec les chevaux\n– 16h30 : Goûter et théorie éthologique\n– 17h00 : Ateliers d’écurie et soins aux chevaux\n– 18h00 : Fin de la journée de stage en externat \nIl y aura 2 groupes : Un groupe débutant et un groupe confirmé \nChaque stagiaire se voit attribuer un cheval pour la durée du séjour\, avec la possibilité d’apporter son propre compagnon équin (pas d’étalon). Le stage\, proposé en licol\, cordelette ou au mors\, s’adapte aux niveaux des cavaliers et des chevaux. \nInformations Pratiques : \n– Le stage aura lieu du 27 avril au 1er mai 2026\n– Tarif : 450€ pour les 5 jours \nEncadrement : \n– Claire Stevenaert\, spécialiste en équitation éthologique\, pour un encadrement personnalisé. \nOptions d’Hébergement : \n– Internat : du lundi au vendredi : 175€\, du dimanche soir au vendredi : 200€\n– Externat : Pique-nique à prévoir\, boissons incluses. \nContact : \n– Infos et réservations : contact@formations-equestres.be | 0473/622.422 \nRejoignez nous pour une expérience équestre enrichissante\, centrée sur la complicité et le respect entre le cavalier et son cheval. \n\n\n\nRéservez votre stage ici
URL:https://formations-equestres.be/formation-ethologique/stage-ados-travail-au-sol-liberte-et-monte-5/
LOCATION:L’écurie du Moulin de Donstiennes\, rue Couture\, 144\, Donstiennes\, Belgium
CATEGORIES:Stages
END:VEVENT
END:VCALENDAR