BEGIN:VCALENDAR
VERSION:2.0
PRODID:-//Formations équestres - ECPv6.15.20//NONSGML v1.0//EN
CALSCALE:GREGORIAN
METHOD:PUBLISH
X-ORIGINAL-URL:https://formations-equestres.be
X-WR-CALDESC:Évènements pour Formations équestres
REFRESH-INTERVAL;VALUE=DURATION:PT1H
X-Robots-Tag:noindex
X-PUBLISHED-TTL:PT1H
BEGIN:VTIMEZONE
TZID:Europe/Brussels
BEGIN:DAYLIGHT
TZOFFSETFROM:+0100
TZOFFSETTO:+0200
TZNAME:CEST
DTSTART:20240331T010000
END:DAYLIGHT
BEGIN:STANDARD
TZOFFSETFROM:+0200
TZOFFSETTO:+0100
TZNAME:CET
DTSTART:20241027T010000
END:STANDARD
BEGIN:DAYLIGHT
TZOFFSETFROM:+0100
TZOFFSETTO:+0200
TZNAME:CEST
DTSTART:20250330T010000
END:DAYLIGHT
BEGIN:STANDARD
TZOFFSETFROM:+0200
TZOFFSETTO:+0100
TZNAME:CET
DTSTART:20251026T010000
END:STANDARD
BEGIN:DAYLIGHT
TZOFFSETFROM:+0100
TZOFFSETTO:+0200
TZNAME:CEST
DTSTART:20260329T010000
END:DAYLIGHT
BEGIN:STANDARD
TZOFFSETFROM:+0200
TZOFFSETTO:+0100
TZNAME:CET
DTSTART:20261025T010000
END:STANDARD
END:VTIMEZONE
BEGIN:VEVENT
DTSTART;VALUE=DATE:20251220
DTEND;VALUE=DATE:20251222
DTSTAMP:20260426T053124
CREATED:20230718T142400Z
LAST-MODIFIED:20251216T115423Z
UID:4965-1766188800-1766361599@formations-equestres.be
SUMMARY:Formation CPE Cursus II - 3/5
DESCRIPTION:Promo 08 \nCette formation est accessible aux personnes ayant suivi le cursus 1\, et qui souhaitent se perfectionner et approfondir davantage les bases acquises lors du CPE cursus 01. \nPour consulter le programme de notre cursus 2\, nous vous invitons à suivre le lien suivant : https://formations-equestres.be/formations/formation-connaissances-pratique-ethologique/ \nLes dates de cette formation :\n\nLes 11 et 12 octobre 2025\nLes  22 et 23 novembre 2025\nLes 20 et 21 décembre  2025\nEt 2 autres weekends à planifier en 2026\n\nInfos : contact@formations-equestres.be
URL:https://formations-equestres.be/formation-ethologique/formation-cpe-cursus-ll/
LOCATION:6536 Donstiennes
CATEGORIES:formation,formation-tout-public
ATTACH;FMTTYPE=image/jpeg:https://formations-equestres.be/formeque/wp-content/uploads/2023/04/P1010082-304x300-1.jpg
END:VEVENT
END:VCALENDAR