BEGIN:VCALENDAR
VERSION:2.0
PRODID:-//Formations équestres - ECPv6.15.20//NONSGML v1.0//EN
CALSCALE:GREGORIAN
METHOD:PUBLISH
X-WR-CALNAME:Formations équestres
X-ORIGINAL-URL:https://formations-equestres.be
X-WR-CALDESC:Évènements pour Formations équestres
REFRESH-INTERVAL;VALUE=DURATION:PT1H
X-Robots-Tag:noindex
X-PUBLISHED-TTL:PT1H
BEGIN:VTIMEZONE
TZID:Europe/Brussels
BEGIN:DAYLIGHT
TZOFFSETFROM:+0100
TZOFFSETTO:+0200
TZNAME:CEST
DTSTART:20250330T010000
END:DAYLIGHT
BEGIN:STANDARD
TZOFFSETFROM:+0200
TZOFFSETTO:+0100
TZNAME:CET
DTSTART:20251026T010000
END:STANDARD
BEGIN:DAYLIGHT
TZOFFSETFROM:+0100
TZOFFSETTO:+0200
TZNAME:CEST
DTSTART:20260329T010000
END:DAYLIGHT
BEGIN:STANDARD
TZOFFSETFROM:+0200
TZOFFSETTO:+0100
TZNAME:CET
DTSTART:20261025T010000
END:STANDARD
BEGIN:DAYLIGHT
TZOFFSETFROM:+0100
TZOFFSETTO:+0200
TZNAME:CEST
DTSTART:20270328T010000
END:DAYLIGHT
BEGIN:STANDARD
TZOFFSETFROM:+0200
TZOFFSETTO:+0100
TZNAME:CET
DTSTART:20271031T010000
END:STANDARD
END:VTIMEZONE
BEGIN:VEVENT
DTSTART;VALUE=DATE:20260613
DTEND;VALUE=DATE:20260615
DTSTAMP:20260426T042327
CREATED:20230718T135142Z
LAST-MODIFIED:20251223T085213Z
UID:4955-1781308800-1781481599@formations-equestres.be
SUMMARY:Formation CPE Cursus I - 3/5
DESCRIPTION:Week-end 3/5\nLa formation « Connaissances et pratique éthologiques » est proposée par Claire Stevenaert et Alexandre Declercq. Elle est ouverte à tous\, enseignants ou cavaliers désireux d’appréhender le cheval et son travail via une pédagogie et un enseignement différent. \nAu cours de cette formation\, les programmes des Savoirs d’Equitation Ethologique sont abordés et mis en pratique. Sur demande\, Claire peut faire passer les examens des Savoirs en collaboration avec l’Académie d’Enseignement Comportemental de Firfol (Normandie). \nLe programme de la formation « Connaissances et pratique éthologiques » est organisé en 5 stages de 2 jours. \n  \nStage 3 : Initiation Monté (NB : Correspond au Savoir Ethologique 3) :\n\nConnaître le rythme de vie du cheval au naturel\, les différents modes de vie du cheval domestiqué et les stéréotypies.\nTransposer l’éducation du cheval au sol au travail monté dans la décontraction (dans le respect des principes d’apprentissage).\nContrôle du cheval dans l’allure et la direction\nDécouvrir les notions d’équitation centrée.\n\nTARIF DE BASE\nLa formation « Connaissances et pratique éthologique » revient à 1750 euros TVAC. \nCe tarif comprend : \n\nparticipation aux cours de pratiques éthologiques avec votre cheval ou un cheval de location\ncours de théorie avec supports de cours\nséances de gestuelle\nTP d’observation\n\nSuppléments : l’hébergement de votre cheval \nMAXIMUM 8 PERSONNES \nInfos et Inscriptions : contact@formations-equestres.be
URL:https://formations-equestres.be/formation-ethologique/formation-cpe-cursus-i-promo-15-3-5/
LOCATION:6536 Donstiennes
CATEGORIES:formation,formation-pro,formation-tout-public
ATTACH;FMTTYPE=image/jpeg:https://formations-equestres.be/formeque/wp-content/uploads/2023/04/groupe-formation-447x300-1.jpg
END:VEVENT
END:VCALENDAR